BEGIN:VCALENDAR
VERSION:2.0
PRODID:-//eventon.com NONSGML v1.0//EN
BEGIN:VEVENT
UID:69ed6b4cb507a
DTSTAMP:20260426T033300
DTSTART:20260704T180000Z
DTEND:20260712T140000Z
TZID:Europe/Paris
LOCATION:Les Jardins intérieurs\,  Quartier du Buis 07200 Saint Privat
SUMMARY:SAT 1 : Connaissance de soi et vitalité
DESCRIPTION: Du 4 au 12 juillet 2026 A travers une mosaïque de méthodes et de techniques reliées de manière organique\,  SAT 1 propose la désidentification des aspects de la personnalité conditionnée (l&#8217;ego) et ouvre l´Être à ses vraies valeurs et à un potentiel existentiel plus créatif. Il contient les éléments suivants[..]\nhttps://www.institut-hoffman.com/events/sat-1-connaissance-de-soi-et-vitalite-2026/
URL:https://www.institut-hoffman.com/events/sat-1-connaissance-de-soi-et-vitalite-2026/
END:VEVENT
END:VCALENDAR